BEGIN:VCALENDAR
VERSION:2.0
PRODID:-//Tukios.com/
BEGIN:VEVENT
UID:f274dce0-4919-45e5-97f6-75ca3a277d8e@www.mckenziesportagefuneralchapel.com
DTSTAMP:20260421T003108Z
DTSTART:20260423T210000Z
DTEND:20260423T220000Z
SUMMARY:Wake
DESCRIPTION:
URL:https://www.mckenziesportagefuneralchapel.com/obituaries/dante-peters
LOCATION: 111 Yellowquill Trail E  Portage la Prairie MB R1N 3B7
GEO:49.8619129;-98.4547252
END:VEVENT
END:VCALENDAR