BEGIN:VCALENDAR
VERSION:2.0
PRODID:-//Tukios.com/
BEGIN:VEVENT
UID:dacf91f0-294b-4580-ba13-8672738aec39@www.mckenziesportagefuneralchapel.com
DTSTAMP:20260421T002653Z
DTSTART:20260424T170000Z
DTEND:20260424T180000Z
SUMMARY:Feast and Service
DESCRIPTION:
URL:https://www.mckenziesportagefuneralchapel.com/obituaries/dante-peters
LOCATION: 111 Yellowquill Trail E  Portage la Prairie MB R1N 3B7
GEO:49.8619129;-98.4547252
END:VEVENT
END:VCALENDAR