BEGIN:VCALENDAR
VERSION:2.0
PRODID:-//Tukios.com/
BEGIN:VEVENT
UID:ec71c37b-4434-4221-a198-0d5084cbb008@www.mckenziesportagefuneralchapel.com
DTSTAMP:20260420T205456Z
DTSTART:20260423T170000Z
DTEND:20260423T180000Z
SUMMARY:Other
DESCRIPTION:
URL:https://www.mckenziesportagefuneralchapel.com/obituaries/elizabeth-betty-daniels
LOCATION:Keeshkeemaquah Centre Keeshkeemaquah Dr  Portage la Prairie MB 
	R0H
GEO:49.960321;-98.3248658
END:VEVENT
END:VCALENDAR