BEGIN:VCALENDAR
VERSION:2.0
PRODID:-//Tukios.com/
BEGIN:VEVENT
UID:545d3821-5890-4b03-be25-aef7e7737bce@www.mckenziesportagefuneralchapel.com
DTSTAMP:20260421T230916Z
DTSTART:20260430T180000Z
DTEND:20260430T190000Z
SUMMARY:Celebration of Life
DESCRIPTION:
URL:https://www.mckenziesportagefuneralchapel.com/obituaries/marion-mcnee-nee-migas
LOCATION:McKenzies Portage Funeral Chapel 56 Royal Road South  Portage la 
	Prairie MB R1N 1T6
GEO:49.9712581;-98.2898773
END:VEVENT
END:VCALENDAR