BEGIN:VCALENDAR
VERSION:2.0
PRODID:-//Tukios.com/
BEGIN:VEVENT
UID:a43df446-f94c-418f-804d-9e63907e7a94@www.mckenziesportagefuneralchapel.com
DTSTAMP:20260425T020711Z
DTSTART:20260501T190000Z
DTEND:20260501T200000Z
SUMMARY:Graveside Service
DESCRIPTION:
URL:https://www.mckenziesportagefuneralchapel.com/obituaries/roger-mceachnie
LOCATION:    Oakville MB R0H 0Y0
GEO:49.9294439;-98.003889
END:VEVENT
END:VCALENDAR